BEGIN:VCALENDAR
VERSION:2.0
PRODID:-//Plone.org//NONSGML plone.app.event//EN
X-WR-TIMEZONE:Europe/Madrid
BEGIN:VEVENT
SUMMARY:Intel·ligència Artificial i Educació: una introducció - 6a Edi
 ció
DTSTART;TZID=Europe/Madrid:20250909T160000
DTEND;TZID=Europe/Madrid:20250916T180000
DTSTAMP:20260420T034829Z
UID:398a1006afd54780aab41571ffce552c@ice.upc.edu
CONTACT:ICE\, info.ice@upc.edu\, https://formacio.ice.upc.edu/cat/estudis/
 formacio/curs/709470/curs-intelligencia-artificial-educacio-introduccio---
 6a-edicio/
CREATED:20250611T074758Z
DESCRIPTION:Curs
LAST-MODIFIED:20250903T103604Z
LOCATION:Online
URL:https://ice.upc.edu/ca/esdeveniments/esdeveniment-de-mostra-1
END:VEVENT
BEGIN:VTIMEZONE
TZID:Europe/Madrid
X-LIC-LOCATION:Europe/Madrid
BEGIN:DAYLIGHT
DTSTART:20250330T030000
TZNAME:CEST
TZOFFSETFROM:+0100
TZOFFSETTO:+0200
END:DAYLIGHT
END:VTIMEZONE
END:VCALENDAR
