BEGIN:VCALENDAR
VERSION:2.0
PRODID:-//Plone.org//NONSGML plone.app.event//EN
X-WR-TIMEZONE:Europe/Madrid
BEGIN:VEVENT
SUMMARY:Advanced vocabulary in the classroom - course 2. ed. 2
DTSTART;TZID=Europe/Madrid:20250929T103000
DTEND;TZID=Europe/Madrid:20251020T120000
DTSTAMP:20260419T161506Z
UID:595b8a6f859f4690b5284aeb8197bce3@ice.upc.edu
CONTACT:ICE\, info.ice@upc.edu\, https://formacio.ice.upc.edu/cat/estudis/
 formacio/curs/700270/curs-advanced-vocabulary-classroom---course-2-ed-2/
CREATED:20250611T074758Z
DESCRIPTION:Curs
LAST-MODIFIED:20250903T103646Z
LOCATION:Online
URL:https://ice.upc.edu/ca/esdeveniments/esdeveniment-de-mostra-2
END:VEVENT
BEGIN:VTIMEZONE
TZID:Europe/Madrid
X-LIC-LOCATION:Europe/Madrid
BEGIN:DAYLIGHT
DTSTART:20250330T030000
TZNAME:CEST
TZOFFSETFROM:+0100
TZOFFSETTO:+0200
END:DAYLIGHT
END:VTIMEZONE
END:VCALENDAR
