BEGIN:VCALENDAR
VERSION:2.0
PRODID:-//Plone.org//NONSGML plone.app.event//EN
X-WR-TIMEZONE:Europe/Madrid
BEGIN:VEVENT
SUMMARY:Comença la tesi amb bon peu: organitza la informació
DTSTART;TZID=Europe/Madrid:20251001T090000
DTEND;TZID=Europe/Madrid:20251031T090000
DTSTAMP:20260419T161505Z
UID:33a696eee4744d7dbc75cdbef979411a@ice.upc.edu
CONTACT:ICE\, info.ice@upc.edu\, https://formacio.ice.upc.edu/cat/estudis/
 formacio/curs/703170/taller-comenca-tesi-bon-peu-organitza-informacio/
CREATED:20250611T074759Z
DESCRIPTION:Taller
LAST-MODIFIED:20251020T130725Z
LOCATION:Online
URL:https://ice.upc.edu/ca/esdeveniments/esdeveniment-de-mostra-3
END:VEVENT
BEGIN:VTIMEZONE
TZID:Europe/Madrid
X-LIC-LOCATION:Europe/Madrid
BEGIN:DAYLIGHT
DTSTART:20250330T030000
TZNAME:CEST
TZOFFSETFROM:+0100
TZOFFSETTO:+0200
END:DAYLIGHT
BEGIN:STANDARD
DTSTART:20251026T020000
TZNAME:CET
TZOFFSETFROM:+0200
TZOFFSETTO:+0100
END:STANDARD
END:VTIMEZONE
END:VCALENDAR
