BEGIN:VCALENDAR
VERSION:2.0
PRODID:-//Plone.org//NONSGML plone.app.event//EN
X-WR-TIMEZONE:Europe/Madrid
BEGIN:VEVENT
SUMMARY:Prevenció de Riscos Laborals - nivell bàsic - edició 2025-26
DTSTART;TZID=Europe/Madrid:20250915T090000
DTEND;TZID=Europe/Madrid:20251015T090000
DTSTAMP:20260419T161505Z
UID:5a93031393414d3d8838cd3036f23ed9@ice.upc.edu
CONTACT:ICE\, info.ice@upc.edu\, https://formacio.ice.upc.edu/cat/estudis/
 formacio/curs/706070/curs-prevencio-riscos-laborals---nivell-basic---edici
 o-2025-26/
CREATED:20250611T074759Z
DESCRIPTION:Curs
LAST-MODIFIED:20250903T103619Z
LOCATION:Online
URL:https://ice.upc.edu/ca/esdeveniments/esdeveniment-de-mostra-4
END:VEVENT
BEGIN:VTIMEZONE
TZID:Europe/Madrid
X-LIC-LOCATION:Europe/Madrid
BEGIN:DAYLIGHT
DTSTART:20250330T030000
TZNAME:CEST
TZOFFSETFROM:+0100
TZOFFSETTO:+0200
END:DAYLIGHT
END:VTIMEZONE
END:VCALENDAR
